Workbook

Sheet INICIO
B2: PLANTILLA PARA ESTUDIOS DE FACTIBILIDAD
B3: UN SOLO PRODUCTO O SERVICIO
B5: RECOMENDACIONES
B6: Revise esta plantilla antes de empezar su estudio de factibilidad
B7: Las celdas sombreadas son para introducir datos
B8: Si desprotege la hoja, tenga cuidado de no borrar fórmulas
B9: Si necesita aumentar la filas puede hacerlo pero ajustando las fórmulas y la vinculación de los datos
B10: No se recomienda eliminar filas en este archivo porque puede afectar las fórmulas.
B11: Las filas que no necesite se pueden eliminar en el documento Word.
B12: Si se trata de un servicio, puede omitir o no los insumos o materias primas
B14: CRÉDITOS
B15: Oriol Alberto Mogollón Cañas | E15: Economista
B16: Alejandro Villarraga Plaza | E16: Administrador de Empresas
B17: Ramiro Augusto Redondo Mora | E17: Administrador de Empresas
B18: Carlos Manuel Figueroa Orejarena | E18: Profesional en Gestión Empresarial
B19: Querubín Sánchez Martínez | E19: Profesional en Gestión Empresarial
J20: Programa
B21: AÑO DE ELABORACIÓN | E21: 2021 | J21: Gestión Empresarial
B22: ACTUALIZACIÓN | E22: 2024
B23: ÚLTIMA ACTUALIZACIÓN | E23: 2026

Sheet EST.MERCADOS
C5: Cuantifique la demanda anual actual | F5: Presupuesto de lanzamiento | K5: Presupuesto de operación
C6: Cuantifique la demanda efectiva actual | F6: DESCRIPCIÓN | G6: CANTIDAD | H6: VALOR UNITARIO | I6: VALOR | K6: DESCRIPCIÓN | L6: VALOR MENSUAL | M6: VALOR ANUAL
I7: =G7*H7 -> 0 | M7: =L7*12 -> 0
I8: =G8*H8 -> 0 | M8: =L8*12 -> 0
C9: Tasa de proyección | I9: =G9*H9 -> 0 | M9: =L9*12 -> 0
I10: =G10*H10 -> 0 | M10: =L10*12 -> 0
B11: AÑO | C11: DEMANDA ACTUAL PROYECTADA | I11: =G11*H11 -> 0 | M11: =L11*12 -> 0
B12: 1 | C12: =D5*(1+$D$9) -> 0 | I12: =G12*H12 -> 0 | M12: =L12*12 -> 0
B13: 2 | C13: =C12*(1+$D$9) -> 0 | I13: =G13*H13 -> 0 | M13: =L13*12 -> 0
B14: 3 | C14: =C13*(1+$D$9) -> 0 | I14: =G14*H14 -> 0 | M14: =L14*12 -> 0
B15: 4 | C15: =C14*(1+$D$9) -> 0 | I15: =G15*H15 -> 0 | M15: =L15*12 -> 0
B16: 5 | C16: =C15*(1+$D$9) -> 0 | F16: TOTAL | I16: =SUM(I7:I15) -> 0 | K16: TOTAL | L16: =SUM(L7:L15) -> 0 | M16: =SUM(M7:M15) -> 0
F17: No incluya diseño y mantenimiento de sitio web, ni administración de redes sociales, ni diseño de identidad corporativa
B19: AÑO | C19: DEMANDA EFECTIVA PROYECTADA
B20: 1 | C20: =D6*(1+$D$9) -> 0
B21: 2 | C21: =C20*(1+$D$9) -> 0
B22: 3 | C22: =C21*(1+$D$9) -> 0
B23: 4 | C23: =C22*(1+$D$9) -> 0
B24: 5 | C24: =C23*(1+$D$9) -> 0

Sheet EST.TÉCNICO
C4: Año 1 | D4: Año 2 | E4: Año 3 | F4: Año 4 | G4: Año 5
B5: Capacidad diseñada
B6: Capacidad instalada | D6: =C6 -> 0 | E6: =D6 -> 0 | F6: =E6 -> 0 | G6: =F6 -> 0
B7: Porcentaje de utilización de la Capacidad instalada
B8: Capacidad utilizada y proyectada | C8: =C6*C7 -> 0 | D8: =D6*D7 -> 0 | E8: =E6*E7 -> 0 | F8: =F6*F7 -> 0 | G8: =G6*G7 -> 0
B9: Porcentaje de Participación en el mercado | C9: =C8/EST.MERCADOS!C12 -> #DIV/0! | D9: =D8/EST.MERCADOS!C13 -> #DIV/0! | E9: =E8/EST.MERCADOS!C14 -> #DIV/0! | F9: =F8/EST.MERCADOS!C15 -> #DIV/0! | G9: =G8/EST.MERCADOS!C16 -> #DIV/0!
B11: Talento humano
B12: CARGO | C12: SUELDO | D12: SUBSIDIO TRANSPORTE | E12: ÁREA | F12: TIPO DE CONTRATO | G12: Nº PUESTOS
E13: Administrativa
E14: Administrativa
E15: Administrativa
E16: Administrativa
E17: Administrativa
B18: JEFE DE VENTAS | E18: Comercial
E19: Comercial
E20: Comercial
E21: Comercial
E22: Comercial
B23: JEFE DE PRODUCCIÓN | E23: Operativa
E24: Operativa
E25: Operativa
E26: Operativa
E27: Operativa
E28: Operativa
B31: Materiales directos, Insumos o mercancía para la venta
B32: MATERIAL | C32: UNIDAD DE MEDIDA | D32: CANTIDAD POR UNIDAD | E32: CANTIDAD AÑO 1 | I32: Infraestructura
E33: =D33*$C$8 -> 0 | I33: Equipo de oficina
E34: =D34*$C$8 -> 0 | I34: ACTIVO | J34: CANTIDAD | K34: ESPECIFICACIONES GENERALES
E35: =D35*$C$8 -> 0
E36: =D36*$C$8 -> 0
E37: =D37*$C$8 -> 0
E38: =D38*$C$8 -> 0
E39: =D39*$C$8 -> 0
E40: =D40*$C$8 -> 0
E41: =D41*$C$8 -> 0
E42: =D42*$C$8 -> 0
E43: =D43*$C$8 -> 0
E44: =D44*$C$8 -> 0
E45: =D45*$C$8 -> 0
E46: =D46*$C$8 -> 0 | I46: Equipo de computación y comunicación
...

Sheet INVERSIÓN
A1: Infraestructura | H1: inv. Fija
A2: Equipo de oficina | H2: ACTIVO | I2: VALOR TOTAL
A3: ACTIVO | B3: CANTIDAD | C3: VALOR UNITARIO | D3: VALOR TOTAL | E3: DEPRECIACIÓN ANUAL | F3: VALOR DE SALVAMENTO | H3: Equipo de oficina | I3: =D14 -> 0
A4: =EST.TÉCNICO!I35 -> 0 | B4: =EST.TÉCNICO!J35 -> 0 | D4: =B4*C4 -> 0 | E4: =IF(D4="",0,(D4-F4)/5) -> 0 | H4: Equipo de computación y comunicación | I4: =D23 -> 0
A5: =EST.TÉCNICO!I36 -> 0 | B5: =EST.TÉCNICO!J36 -> 0 | D5: =B5*C5 -> 0 | E5: =IF(D5="",0,(D5-F5)/5) -> 0 | H5: Maquinaria y equipo | I5: =D43 -> 0
A6: =EST.TÉCNICO!I37 -> 0 | B6: =EST.TÉCNICO!J37 -> 0 | D6: =B6*C6 -> 0 | E6: =IF(D6="",0,(D6-F6)/5) -> 0 | H6: Terreno | I6: 0
A7: =EST.TÉCNICO!I38 -> 0 | B7: =EST.TÉCNICO!J38 -> 0 | D7: =B7*C7 -> 0 | E7: =IF(D7="",0,(D7-F7)/5) -> 0 | H7: Construcciones y edificaciones | I7: 0 | J7: 0
A8: =EST.TÉCNICO!I39 -> 0 | B8: =EST.TÉCNICO!J39 -> 0 | D8: =B8*C8 -> 0 | E8: =IF(D8="",0,(D8-F8)/5) -> 0 | H8: Muebles y enseres operativos | I8: =D68 -> 0
A9: =EST.TÉCNICO!I40 -> 0 | B9: =EST.TÉCNICO!J40 -> 0 | D9: =B9*C9 -> 0 | E9: =IF(D9="",0,(D9-F9)/5) -> 0 | H9: Herramientas, repuestos y accesorios | I9: =D83 -> 0
A10: =EST.TÉCNICO!I41 -> 0 | B10: =EST.TÉCNICO!J41 -> 0 | D10: =B10*C10 -> 0 | E10: =IF(D10="",0,(D10-F10)/5) -> 0 | H10: Inventario de mercancía | I10: 0
A11: =EST.TÉCNICO!I42 -> 0 | B11: =EST.TÉCNICO!J42 -> 0 | D11: =B11*C11 -> 0 | E11: =IF(D11="",0,(D11-F11)/5) -> 0 | H11: TOTAL INVERSIÓN FIJA | I11: =SUM(I3:I10) -> 0
A12: =EST.TÉCNICO!I43 -> 0 | B12: =EST.TÉCNICO!J43 -> 0 | D12: =B12*C12 -> 0 | E12: =IF(D12="",0,(D12-F12)/5) -> 0
A13: =EST.TÉCNICO!I44 -> 0 | B13: =EST.TÉCNICO!J44 -> 0 | D13: =B13*C13 -> 0 | E13: =IF(D13="",0,(D13-F13)/5) -> 0
A14: TOTALES | D14: =SUM(D4:D13) -> 0 | E14: =SUM(E4:E13) -> 0 | F14: =SUM(F4:F13) -> 0
A17: Equipo de computación y comunicación
A18: ACTIVO | B18: CANTIDAD | C18: VALOR UNITARIO | D18: VALOR TOTAL | E18: DEPRECIACIÓN ANUAL | F18: VALOR DE SALVAMENTO | H18: inv diferida
A19: =EST.TÉCNICO!I48 -> 0 | B19: =EST.TÉCNICO!J48 -> 0 | D19: =B19*C19 -> 0 | E19: =IF(D19="",0,(D19-F19)/5) -> 0 | H19: CONCEPTO | I19: VALOR
A20: =EST.TÉCNICO!I49 -> 0 | B20: =EST.TÉCNICO!J49 -> 0 | D20: =B20*C20 -> 0 | E20: =IF(D20="",0,(D20-F20)/5) -> 0 | H20: Estudio de Factibilidad | I20: 0
A21: =EST.TÉCNICO!I50 -> 0 | B21: =EST.TÉCNICO!J50 -> 0 | D21: =B21*C21 -> 0 | E21: =IF(D21="",0,(D21-F21)/5) -> 0 | H21: Licencia de funcionamiento | I21: 0
A22: =EST.TÉCNICO!I51 -> 0 | B22: =EST.TÉCNICO!J51 -> 0 | D22: =B22*C22 -> 0 | E22: =IF(D22="",0,(D22-F22)/5) -> 0 | H22: Registro sanitario | I22: 0
A23: TOTALES | D23: =SUM(D19:D22) -> 0 | E23: =SUM(E19:E22) -> 0 | F23: =SUM(F19:F22) -> 0 | H23: Escritura de Constitución | I23: 0
H24: Registro de libros y documentos | I24: 0
H25: Estudio impacto ambiental | I25: 0
A26: Maquinaria y equipo | H26: Diseño del SG-SST | I26: 0
A27: ACTIVO | B27: CANTIDAD | C27: VALOR UNITARIO | D27: VALOR TOTAL | E27: DEPRECIACIÓN ANUAL | F27: VALOR DE SALVAMENTO | H27: Otro software | I27: 0
A28: =EST.TÉCNICO!I59 -> 0 | B28: =EST.TÉCNICO!J59 -> 0 | D28: =B28*C28 -> 0 | E28: =IF(D28="",0,(D28-F28)/5) -> 0 | H28: Sotfware contable | I28: 0
A29: =EST.TÉCNICO!I60 -> 0 | B29: =EST.TÉCNICO!J60 -> 0 | D29: =B29*C29 -> 0 | E29: =IF(D29="",0,(D29-F29)/5) -> 0 | H29: Adecuaciones-Remodelaciones | I29: 0
A30: =EST.TÉCNICO!I61 -> 0 | B30: =EST.TÉCNICO!J61 -> 0 | D30: =B30*C30 -> 0 | E30: =IF(D30="",0,(D30-F30)/5) -> 0 | H30: Publicidad Lanzamiento | I30: =EST.MERCADOS!I16 -> 0
A31: =EST.TÉCNICO!I62 -> 0 | B31: =EST.TÉCNICO!J62 -> 0 | D31: =B31*C31 -> 0 | E31: =IF(D31="",0,(D31-F31)/5) -> 0 | H31: Diseño de identidad corporativa | I31: 0
A32: =EST.TÉCNICO!I63 -> 0 | B32: =EST.TÉCNICO!J63 -> 0 | D32: =B32*C32 -> 0 | E32: =IF(D32="",0,(D32-F32)/5) -> 0 | H32: Diseño del sitio web | I32: 0
A33: =EST.TÉCNICO!I64 -> 0 | B33: =EST.TÉCNICO!J64 -> 0 | D33: =B33*C33 -> 0 | E33: =IF(D33="",0,(D33-F33)/5) -> 0 | H33: Diseño de tienda virtual | I33: 0
A34: =EST.TÉCNICO!I65 -> 0 | B34: =EST.TÉCNICO!J65 -> 0 | D34: =B34*C34 -> 0 | E34: =IF(D34="",0,(D34-F34)/5) -> 0 | H34: Patentes | I34: 0
A35: =EST.TÉCNICO!I66 -> 0 | B35: =EST.TÉCNICO!J66 -> 0 | D35: =B35*C35 -> 0 | E35: =IF(D35="",0,(D35-F35)/5) -> 0 | H35: Registro de marca | I35: 0
A36: =EST.TÉCNICO!I67 -> 0 | B36: =EST.TÉCNICO!J67 -> 0 | D36: =B36*C36 -> 0 | E36: =IF(D36="",0,(D36-F36)/5) -> 0 | H36: TOTAL INVERSIÓN DIFERIDA | I36: =SUM(I20:I35) -> 0
A37: =EST.TÉCNICO!I68 -> 0 | B37: =EST.TÉCNICO!J68 -> 0 | D37: =B37*C37 -> 0 | E37: =IF(D37="",0,(D37-F37)/5) -> 0 | H37: Amortización anual | I37: =I36/5 -> 0
A38: =EST.TÉCNICO!I69 -> 0 | B38: =EST.TÉCNICO!J69 -> 0 | D38: =B38*C38 -> 0 | E38: =IF(D38="",0,(D38-F38)/5) -> 0 | H38: Amortización mensual | I38: =I37/12 -> 0
A39: =EST.TÉCNICO!I70 -> 0 | B39: =EST.TÉCNICO!J70 -> 0 | D39: =B39*C39 -> 0 | E39: =IF(D39="",0,(D39-F39)/5) -> 0
A40: =EST.TÉCNICO!I71 -> 0 | B40: =EST.TÉCNICO!J71 -> 0 | D40: =B40*C40 -> 0 | E40: =IF(D40="",0,(D40-F40)/5) -> 0 | H40: capital de trabajo
A41: =EST.TÉCNICO!I72 -> 0 | B41: =EST.TÉCNICO!J72 -> 0 | D41: =B41*C41 -> 0 | E41: =IF(D41="",0,(D41-F41)/5) -> 0 | H41: CONCEPTO | I41: VALOR | J41: 1
A42: =EST.TÉCNICO!I73 -> 0 | B42: =EST.TÉCNICO!J73 -> 0 | D42: =B42*C42 -> 0 | E42: =IF(D42="",0,(D42-F42)/5) -> 0 | H42: Costos totales de producción | I42: =CTP!C107*J41 -> 0
...

Sheet CRÉDITO
A1: Préstamo | C1: Interés mensual | G1: =((1+E1)^12)-1 -> 0 | H1: Tasa Efectiva Anual
A2: Periodo | C2: Valor cuota mensual | E2: =IF(B2>0,ROUND(-PMT(E1,B2,B1,0,0),0),0) -> 0
A3: PERIODO | B3: CAPITAL | C3: INTERESES | D3: CUOTA MENSUAL | E3: SALDO
A4: 1 | B4: =D4-C4 -> 0 | C4: =ROUND($B$1*E1,0) -> 0 | D4: =$E$2 -> 0 | E4: =B1-B4 -> 0 | F4: =C4 -> 0
A5: 2 | B5: =D5-C5 -> 0 | C5: =ROUND($E$1*E4,0) -> 0 | D5: =$E$2 -> 0 | E5: =E4-B5 -> 0 | F5: =SUM(C4:C5) -> 0
A6: 3 | B6: =D6-C6 -> 0 | C6: =ROUND($E$1*E5,0) -> 0 | D6: =$E$2 -> 0 | E6: =E5-B6 -> 0 | F6: =SUM(C4:C6) -> 0
A7: 4 | B7: =D7-C7 -> 0 | C7: =ROUND($E$1*E6,0) -> 0 | D7: =$E$2 -> 0 | E7: =E6-B7 -> 0 | F7: =SUM(C4:C7) -> 0
A8: 5 | B8: =D8-C8 -> 0 | C8: =ROUND($E$1*E7,0) -> 0 | D8: =$E$2 -> 0 | E8: =E7-B8 -> 0 | F8: =SUM(C4:C8) -> 0
A9: 6 | B9: =D9-C9 -> 0 | C9: =ROUND($E$1*E8,0) -> 0 | D9: =$E$2 -> 0 | E9: =E8-B9 -> 0 | F9: =SUM(C4:C9) -> 0
A10: 7 | B10: =D10-C10 -> 0 | C10: =ROUND($E$1*E9,0) -> 0 | D10: =$E$2 -> 0 | E10: =E9-B10 -> 0
A11: 8 | B11: =D11-C11 -> 0 | C11: =ROUND($E$1*E10,0) -> 0 | D11: =$E$2 -> 0 | E11: =E10-B11 -> 0
A12: 9 | B12: =D12-C12 -> 0 | C12: =ROUND($E$1*E11,0) -> 0 | D12: =$E$2 -> 0 | E12: =E11-B12 -> 0
A13: 10 | B13: =D13-C13 -> 0 | C13: =ROUND($E$1*E12,0) -> 0 | D13: =$E$2 -> 0 | E13: =E12-B13 -> 0
A14: 11 | B14: =D14-C14 -> 0 | C14: =ROUND($E$1*E13,0) -> 0 | D14: =$E$2 -> 0 | E14: =E13-B14 -> 0
A15: 12 | B15: =D15-C15 -> 0 | C15: =ROUND($E$1*E14,0) -> 0 | D15: =$E$2 -> 0 | E15: =IF($B$2=12,0,E14-B15) -> 0
B16: =IF($B$2=12,$B$1,SUM(B4:B15)) -> 0 | C16: =SUM(C4:C15) -> 0 | D16: =SUM(D4:D15) -> 0
A17: 13 | B17: =D17-C17 -> 0 | C17: =ROUND($E$1*E15,0) -> 0 | D17: =IF($B$2>=24,$E$2,0) -> 0 | E17: =E15-B17 -> 0
A18: 14 | B18: =D18-C18 -> 0 | C18: =ROUND($E$1*E17,0) -> 0 | D18: =IF($B$2>=24,$E$2,0) -> 0 | E18: =E17-B18 -> 0
A19: 15 | B19: =D19-C19 -> 0 | C19: =ROUND($E$1*E18,0) -> 0 | D19: =IF($B$2>=24,$E$2,0) -> 0 | E19: =E18-B19 -> 0
A20: 16 | B20: =D20-C20 -> 0 | C20: =ROUND($E$1*E19,0) -> 0 | D20: =IF($B$2>=24,$E$2,0) -> 0 | E20: =E19-B20 -> 0
A21: 17 | B21: =D21-C21 -> 0 | C21: =ROUND($E$1*E20,0) -> 0 | D21: =IF($B$2>=24,$E$2,0) -> 0 | E21: =E20-B21 -> 0
A22: 18 | B22: =D22-C22 -> 0 | C22: =ROUND($E$1*E21,0) -> 0 | D22: =IF($B$2>=24,$E$2,0) -> 0 | E22: =E21-B22 -> 0
A23: 19 | B23: =D23-C23 -> 0 | C23: =ROUND($E$1*E22,0) -> 0 | D23: =IF($B$2>=24,$E$2,0) -> 0 | E23: =E22-B23 -> 0
A24: 20 | B24: =D24-C24 -> 0 | C24: =ROUND($E$1*E23,0) -> 0 | D24: =IF($B$2>=24,$E$2,0) -> 0 | E24: =E23-B24 -> 0
A25: 21 | B25: =D25-C25 -> 0 | C25: =ROUND($E$1*E24,0) -> 0 | D25: =IF($B$2>=24,$E$2,0) -> 0 | E25: =E24-B25 -> 0
A26: 22 | B26: =D26-C26 -> 0 | C26: =ROUND($E$1*E25,0) -> 0 | D26: =IF($B$2>=24,$E$2,0) -> 0 | E26: =E25-B26 -> 0
A27: 23 | B27: =D27-C27 -> 0 | C27: =ROUND($E$1*E26,0) -> 0 | D27: =IF($B$2>=24,$E$2,0) -> 0 | E27: =E26-B27 -> 0
A28: 24 | B28: =D28-C28 -> 0 | C28: =ROUND($E$1*E27,0) -> 0 | D28: =IF($B$2>=24,$E$2,0) -> 0 | E28: =IF($B$2=24,0,E27-B28) -> 0
B29: =IF($B$2=24,$B$1-B16,SUM(B17:B28)) -> 0 | C29: =SUM(C17:C28) -> 0 | D29: =SUM(D17:D28) -> 0
A30: 25 | B30: =D30-C30 -> 0 | C30: =ROUND($E$1*E28,0) -> 0 | D30: =IF($B$2>=36,$E$2,0) -> 0 | E30: =E28-B30 -> 0
A31: 26 | B31: =D31-C31 -> 0 | C31: =ROUND($E$1*E30,0) -> 0 | D31: =IF($B$2>=36,$E$2,0) -> 0 | E31: =E30-B31 -> 0
A32: 27 | B32: =D32-C32 -> 0 | C32: =ROUND($E$1*E31,0) -> 0 | D32: =IF($B$2>=36,$E$2,0) -> 0 | E32: =E31-B32 -> 0
A33: 28 | B33: =D33-C33 -> 0 | C33: =ROUND($E$1*E32,0) -> 0 | D33: =IF($B$2>=36,$E$2,0) -> 0 | E33: =E32-B33 -> 0
A34: 29 | B34: =D34-C34 -> 0 | C34: =ROUND($E$1*E33,0) -> 0 | D34: =IF($B$2>=36,$E$2,0) -> 0 | E34: =E33-B34 -> 0
A35: 30 | B35: =D35-C35 -> 0 | C35: =ROUND($E$1*E34,0) -> 0 | D35: =IF($B$2>=36,$E$2,0) -> 0 | E35: =E34-B35 -> 0
A36: 31 | B36: =D36-C36 -> 0 | C36: =ROUND($E$1*E35,0) -> 0 | D36: =IF($B$2>=36,$E$2,0) -> 0 | E36: =E35-B36 -> 0
A37: 32 | B37: =D37-C37 -> 0 | C37: =ROUND($E$1*E36,0) -> 0 | D37: =IF($B$2>=36,$E$2,0) -> 0 | E37: =E36-B37 -> 0
A38: 33 | B38: =D38-C38 -> 0 | C38: =ROUND($E$1*E37,0) -> 0 | D38: =IF($B$2>=36,$E$2,0) -> 0 | E38: =E37-B38 -> 0
A39: 34 | B39: =D39-C39 -> 0 | C39: =ROUND($E$1*E38,0) -> 0 | D39: =IF($B$2>=36,$E$2,0) -> 0 | E39: =E38-B39 -> 0
A40: 35 | B40: =D40-C40 -> 0 | C40: =ROUND($E$1*E39,0) -> 0 | D40: =IF($B$2>=36,$E$2,0) -> 0 | E40: =E39-B40 -> 0
...

Sheet CTP
B1: nómina operativa (MOD) | J1: nómina operativa (MOI)
B2: CARGO | C2: PORCENTAJE | D2: =EST.TÉCNICO!B24 -> 0 | E2: =EST.TÉCNICO!B25 -> 0 | F2: =EST.TÉCNICO!B26 -> 0 | G2: =EST.TÉCNICO!B27 -> 0 | H2: =EST.TÉCNICO!B28 -> 0 | J2: CARGO | K2: PORCENTAJE | L2: JEFE DE PRODUCCIÓN
B3: SUELDO | D3: =EST.TÉCNICO!$C24 -> 0 | E3: =EST.TÉCNICO!$C25 -> 0 | F3: =EST.TÉCNICO!$C26 -> 0 | G3: =EST.TÉCNICO!$C27 -> 0 | H3: =EST.TÉCNICO!$C28 -> 0 | J3: SUELDO | L3: =EST.TÉCNICO!C23 -> 0
B4: SUB.TRANSP | D4: =EST.TÉCNICO!$D24 -> 0 | E4: =EST.TÉCNICO!$D25 -> 0 | F4: =EST.TÉCNICO!$D26 -> 0 | G4: =EST.TÉCNICO!$D27 -> 0 | H4: =EST.TÉCNICO!$D28 -> 0 | J4: SUB.TRANSP | L4: =EST.TÉCNICO!D23 -> 0
B5: Cesantías | C5: 0.08333 | D5: =SUM(D$3:D$4)*$C$5 -> 0 | E5: =SUM(E$3:E$4)*$C$5 -> 0 | F5: =SUM(F$3:F$4)*$C$5 -> 0 | G5: =SUM(G$3:G$4)*$C$5 -> 0 | H5: =SUM(H$3:H$4)*$C$5 -> 0 | J5: Cesantías | K5: 0.08333 | L5: =SUM($L$3:$L$4)*K5 -> 0
B6: Intereses a las Cesantías | C6: 0.01 | D6: =SUM(D$3:D$4)*$C$6 -> 0 | E6: =SUM(E$3:E$4)*$C$6 -> 0 | F6: =SUM(F$3:F$4)*$C$6 -> 0 | G6: =SUM(G$3:G$4)*$C$6 -> 0 | H6: =SUM(H$3:H$4)*$C$6 -> 0 | J6: Intereses a las Cesantías | K6: 0.01 | L6: =SUM($L$3:$L$4)*K6 -> 0
B7: Prima de servicios | C7: 0.08333 | D7: =SUM(D$3:D$4)*$C$7 -> 0 | E7: =SUM(E$3:E$4)*$C$7 -> 0 | F7: =SUM(F$3:F$4)*$C$7 -> 0 | G7: =SUM(G$3:G$4)*$C$7 -> 0 | H7: =SUM(H$3:H$4)*$C$7 -> 0 | J7: Prima de servicios | K7: 0.08333 | L7: =SUM($L$3:$L$4)*K7 -> 0
B8: Vacaciones | C8: =C5/2 -> 0.041665 | D8: =SUM(D$3:D$4)*$C$8 -> 0 | E8: =SUM(E$3:E$4)*$C$8 -> 0 | F8: =SUM(F$3:F$4)*$C$8 -> 0 | G8: =SUM(G$3:G$4)*$C$8 -> 0 | H8: =SUM(H$3:H$4)*$C$8 -> 0 | J8: Vacaciones | K8: =K5/2 -> 0.041665 | L8: =SUM($L$3:$L$4)*K8 -> 0
B9: Salud | C9: 0.085 | D9: =D3*$C9 -> 0 | E9: =E3*$C9 -> 0 | F9: =F3*$C9 -> 0 | G9: =G3*$C9 -> 0 | H9: =H3*$C9 -> 0 | J9: Salud | K9: 0.085 | L9: =L3*$C9 -> 0
B10: Pensión | C10: 0.12 | D10: =D3*$C10 -> 0 | E10: =E3*$C10 -> 0 | F10: =F3*$C10 -> 0 | G10: =G3*$C10 -> 0 | H10: =H3*$C10 -> 0 | J10: Pensión | K10: 0.12 | L10: =L3*$C10 -> 0
B11: ARL | C11: 0.005 | D11: =D3*$C11 -> 0 | E11: =E3*$C11 -> 0 | F11: =F3*$C11 -> 0 | G11: =G3*$C11 -> 0 | H11: =H3*$C11 -> 0 | J11: ARL | K11: 0.005 | L11: =L3*$C11 -> 0
B12: SENA | C12: 0.02 | D12: =D3*$C12 -> 0 | E12: =E3*$C12 -> 0 | F12: =F3*$C12 -> 0 | G12: =G3*$C12 -> 0 | H12: =H3*$C12 -> 0 | J12: SENA | K12: 0.02 | L12: =L3*$C12 -> 0
B13: ICBF | C13: 0.03 | D13: =D3*$C13 -> 0 | E13: =E3*$C13 -> 0 | F13: =F3*$C13 -> 0 | G13: =G3*$C13 -> 0 | H13: =H3*$C13 -> 0 | J13: ICBF | K13: 0.03 | L13: =L3*$C13 -> 0
B14: Caja de compensación | C14: 0.04 | D14: =D3*$C14 -> 0 | E14: =E3*$C14 -> 0 | F14: =F3*$C14 -> 0 | G14: =G3*$C14 -> 0 | H14: =H3*$C14 -> 0 | J14: Caja de compensación | K14: 0.04 | L14: =L3*$C14 -> 0
B15: Dotación | C15: 0.05 | D15: =D3*$C15 -> 0 | E15: =E3*$C15 -> 0 | F15: =F3*$C15 -> 0 | G15: =G3*$C15 -> 0 | H15: =H3*$C15 -> 0 | J15: Dotación | K15: 0.05 | L15: =L3*$C15 -> 0
B16: SALARIO REAL | D16: =SUM(D3:D15) -> 0 | E16: =SUM(E3:E15) -> 0 | F16: =SUM(F3:F15) -> 0 | G16: =SUM(G3:G15) -> 0 | H16: =SUM(H3:H15) -> 0 | J16: SALARIO REAL | L16: =SUM(L3:L15) -> 0
B17: Nº DE PUESTOS | D17: =EST.TÉCNICO!G24 -> 0 | E17: =EST.TÉCNICO!G25 -> 0 | F17: =EST.TÉCNICO!G26 -> 0 | G17: =EST.TÉCNICO!G27 -> 0 | H17: =EST.TÉCNICO!G28 -> 0 | J17: COSTO TOTAL MOI | L17: =L16*12 -> 0
B18: COSTO TOTAL MOD | C18: =SUM(D18:H18) -> 0 | D18: =D16*12*D17 -> 0 | E18: =E16*12*E17 -> 0 | F18: =F16*12*F17 -> 0 | G18: =G16*12*G17 -> 0 | H18: =H16*12*H17 -> 0
B20: Insumos y/o materias primas
B21: MATERIAL | C21: UNIDAD DE MEDIDA | D21: CANTIDAD AÑO 1 | E21: COSTO UNITARIO | F21: COSTO ANUAL
B22: =EST.TÉCNICO!B33 -> 0 | C22: =EST.TÉCNICO!C33 -> 0 | D22: =EST.TÉCNICO!E33 -> 0 | F22: =D22*E22 -> 0
B23: =EST.TÉCNICO!B34 -> 0 | C23: =EST.TÉCNICO!C34 -> 0 | D23: =EST.TÉCNICO!E34 -> 0 | F23: =D23*E23 -> 0
B24: =EST.TÉCNICO!B35 -> 0 | C24: =EST.TÉCNICO!C35 -> 0 | D24: =EST.TÉCNICO!E35 -> 0 | F24: =D24*E24 -> 0
B25: =EST.TÉCNICO!B36 -> 0 | C25: =EST.TÉCNICO!C36 -> 0 | D25: =EST.TÉCNICO!E36 -> 0 | F25: =D25*E25 -> 0
B26: =EST.TÉCNICO!B37 -> 0 | C26: =EST.TÉCNICO!C37 -> 0 | D26: =EST.TÉCNICO!E37 -> 0 | F26: =D26*E26 -> 0
B27: =EST.TÉCNICO!B38 -> 0 | C27: =EST.TÉCNICO!C38 -> 0 | D27: =EST.TÉCNICO!E38 -> 0 | F27: =D27*E27 -> 0
B28: =EST.TÉCNICO!B39 -> 0 | C28: =EST.TÉCNICO!C39 -> 0 | D28: =EST.TÉCNICO!E39 -> 0 | F28: =D28*E28 -> 0
B29: =EST.TÉCNICO!B40 -> 0 | C29: =EST.TÉCNICO!C40 -> 0 | D29: =EST.TÉCNICO!E40 -> 0 | F29: =D29*E29 -> 0
B30: =EST.TÉCNICO!B41 -> 0 | C30: =EST.TÉCNICO!C41 -> 0 | D30: =EST.TÉCNICO!E41 -> 0 | F30: =D30*E30 -> 0
B31: =EST.TÉCNICO!B42 -> 0 | C31: =EST.TÉCNICO!C42 -> 0 | D31: =EST.TÉCNICO!E42 -> 0 | F31: =D31*E31 -> 0
B32: =EST.TÉCNICO!B43 -> 0 | C32: =EST.TÉCNICO!C43 -> 0 | D32: =EST.TÉCNICO!E43 -> 0 | F32: =D32*E32 -> 0
B33: =EST.TÉCNICO!B44 -> 0 | C33: =EST.TÉCNICO!C44 -> 0 | D33: =EST.TÉCNICO!E44 -> 0 | F33: =D33*E33 -> 0
... B41: =EST.TÉCNICO!B52 -> 0 | C41: =EST.TÉCNICO!C52 -> 0 | D41: =EST.TÉCNICO!E52 -> 0 | F41: =D41*E41 -> 0
B42: COSTO TOTAL ISNUMOS O MATERIA PRIMA | F42: =SUM(F22:F41) -> 0
B45: materiales indirectos
B46: MATERIAL | C46: UNIDAD DE MEDIDA | D46: CANTIDAD AÑO 1 | E46: COSTO UNITARIO | F46: COSTO ANUAL
B47: =EST.TÉCNICO!B58 -> 0 | C47: =EST.TÉCNICO!C58 -> 0 | D47: =EST.TÉCNICO!E58 -> 0 | F47: =D47*E47 -> 0
B48: =EST.TÉCNICO!B59 -> 0 | C48: =EST.TÉCNICO!C59 -> 0 | D48: =EST.TÉCNICO!E59 -> 0 | F48: =D48*E48 -> 0
B49: =EST.TÉCNICO!B60 -> 0 | C49: =EST.TÉCNICO!C60 -> 0 | D49: =EST.TÉCNICO!E60 -> 0 | F49: =D49*E49 -> 0
B50: =EST.TÉCNICO!B61 -> 0 | C50: =EST.TÉCNICO!C61 -> 0 | D50: =EST.TÉCNICO!E61 -> 0 | F50: =D50*E50 -> 0
...

Sheet GAV
B1: nómina administrativa | J1: nómina de ventas
B2: CARGO | C2: PORCENTAJE | D2: =EST.TÉCNICO!$B13 -> 0 | E2: =EST.TÉCNICO!$B14 -> 0 | F2: =EST.TÉCNICO!$B15 -> 0 | G2: =EST.TÉCNICO!$B16 -> 0 | H2: =EST.TÉCNICO!$B17 -> 0 | J2: CARGO | K2: PORCENTAJE | L2: =EST.TÉCNICO!$B18 -> JEFE DE VENTAS | M2: =EST.TÉCNICO!$B19 -> 0 | N2: =EST.TÉCNICO!$B20 -> 0 | O2: =EST.TÉCNICO!$B21 -> 0 | P2: =EST.TÉCNICO!$B22 -> 0
B3: SUELDO | D3: =EST.TÉCNICO!$C13 -> 0 | E3: =EST.TÉCNICO!$C14 -> 0 | F3: =EST.TÉCNICO!$C15 -> 0 | G3: =EST.TÉCNICO!$C16 -> 0 | H3: =EST.TÉCNICO!$C17 -> 0 | J3: SUELDO | L3: =EST.TÉCNICO!$C18 -> 0 | M3: =EST.TÉCNICO!$C19 -> 0 | N3: =EST.TÉCNICO!$C20 -> 0 | O3: =EST.TÉCNICO!$C21 -> 0 | P3: =EST.TÉCNICO!$C22 -> 0
B4: SUB.TRANSP | D4: =EST.TÉCNICO!$D13 -> 0 | E4: =EST.TÉCNICO!$D14 -> 0 | F4: =EST.TÉCNICO!$D15 -> 0 | G4: =EST.TÉCNICO!$D16 -> 0 | H4: =EST.TÉCNICO!$D17 -> 0 | J4: SUB.TRANSP | L4: =EST.TÉCNICO!$D18 -> 0 | M4: =EST.TÉCNICO!$D19 -> 0 | N4: =EST.TÉCNICO!$D20 -> 0 | O4: =EST.TÉCNICO!$D21 -> 0 | P4: =EST.TÉCNICO!$D22 -> 0
B5: Cesantías | C5: 0.08333 | D5: =SUM($D$3:$D$4)*C5 -> 0 | E5: =SUM($E$3:$E$4)*C5 -> 0 | F5: =SUM($F$3:$F$4)*C5 -> 0 | G5: =SUM(G$3:G$4)*$C$5 -> 0 | H5: =SUM(H$3:H$4)*$C$5 -> 0 | J5: Cesantías | K5: 0.08333 | L5: =SUM(L$3:L$4)*$K5 -> 0 | M5: =SUM(M$3:M$4)*$K5 -> 0 | N5: =SUM(N$3:N$4)*$K5 -> 0 | O5: =SUM(O$3:O$4)*$K5 -> 0 | P5: =SUM(P$3:P$4)*$K5 -> 0
B6: Intereses a las Cesantías | C6: 0.01 | D6: =SUM($D$3:$D$4)*C6 -> 0 | E6: =SUM($E$3:$E$4)*C6 -> 0 | F6: =SUM($F$3:$F$4)*C6 -> 0 | G6: =SUM(G$3:G$4)*$C$6 -> 0 | H6: =SUM(H$3:H$4)*$C$6 -> 0 | J6: Intereses a las Cesantías | K6: 0.01 | L6: =SUM(L$3:L$4)*$K6 -> 0 | M6: =SUM(M$3:M$4)*$K6 -> 0 | N6: =SUM(N$3:N$4)*$K6 -> 0 | O6: =SUM(O$3:O$4)*$K6 -> 0 | P6: =SUM(P$3:P$4)*$K6 -> 0
B7: Prima de servicios | C7: 0.08333 | D7: =SUM($D$3:$D$4)*C7 -> 0 | E7: =SUM($E$3:$E$4)*C7 -> 0 | F7: =SUM($F$3:$F$4)*C7 -> 0 | G7: =SUM(G$3:G$4)*$C$7 -> 0 | H7: =SUM(H$3:H$4)*$C$7 -> 0 | J7: Prima de servicios | K7: 0.08333 | L7: =SUM(L$3:L$4)*$K7 -> 0 | M7: =SUM(M$3:M$4)*$K7 -> 0 | N7: =SUM(N$3:N$4)*$K7 -> 0 | O7: =SUM(O$3:O$4)*$K7 -> 0 | P7: =SUM(P$3:P$4)*$K7 -> 0
B8: Vacaciones | C8: =C5/2 -> 0.041665 | D8: =SUM($D$3:$D$4)*C8 -> 0 | E8: =SUM($E$3:$E$4)*C8 -> 0 | F8: =SUM($F$3:$F$4)*C8 -> 0 | G8: =SUM(G$3:G$4)*$C$8 -> 0 | H8: =SUM(H$3:H$4)*$C$8 -> 0 | J8: Vacaciones | K8: =K5/2 -> 0.041665 | L8: =SUM(L$3:L$4)*$K8 -> 0 | M8: =SUM(M$3:M$4)*$K8 -> 0 | N8: =SUM(N$3:N$4)*$K8 -> 0 | O8: =SUM(O$3:O$4)*$K8 -> 0 | P8: =SUM(P$3:P$4)*$K8 -> 0
B9: Salud | C9: 0.085 | D9: =D3*$C9 -> 0 | E9: =E3*$C9 -> 0 | F9: =F3*$C9 -> 0 | G9: =G3*$C9 -> 0 | H9: =H3*$C9 -> 0 | J9: Salud | K9: 0.085 | L9: =L$3*$K9 -> 0 | M9: =M$3*$K9 -> 0 | N9: =N$3*$K9 -> 0 | O9: =O$3*$K9 -> 0 | P9: =P$3*$K9 -> 0
B10: Pensión | C10: 0.12 | D10: =D3*$C10 -> 0 | E10: =E3*$C10 -> 0 | F10: =F3*$C10 -> 0 | G10: =G3*$C10 -> 0 | H10: =H3*$C10 -> 0 | J10: Pensión | K10: 0.12 | L10: =L$3*$K10 -> 0 | M10: =M$3*$K10 -> 0 | N10: =N$3*$K10 -> 0 | O10: =O$3*$K10 -> 0 | P10: =P$3*$K10 -> 0
B11: ARL | C11: 0.005 | D11: =D3*$C11 -> 0 | E11: =E3*$C11 -> 0 | F11: =F3*$C11 -> 0 | G11: =G3*$C11 -> 0 | H11: =H3*$C11 -> 0 | J11: ARL | K11: 0.005 | L11: =L$3*$K11 -> 0 | M11: =M$3*$K11 -> 0 | N11: =N$3*$K11 -> 0 | O11: =O$3*$K11 -> 0 | P11: =P$3*$K11 -> 0
B12: SENA | C12: 0.02 | D12: =D3*$C12 -> 0 | E12: =E3*$C12 -> 0 | F12: =F3*$C12 -> 0 | G12: =G3*$C12 -> 0 | H12: =H3*$C12 -> 0 | J12: SENA | K12: 0.02 | L12: =L$3*$K12 -> 0 | M12: =M$3*$K12 -> 0 | N12: =N$3*$K12 -> 0 | O12: =O$3*$K12 -> 0 | P12: =P$3*$K12 -> 0
B13: ICBF | C13: 0.03 | D13: =D3*$C13 -> 0 | E13: =E3*$C13 -> 0 | F13: =F3*$C13 -> 0 | G13: =G3*$C13 -> 0 | H13: =H3*$C13 -> 0 | J13: ICBF | K13: 0.03 | L13: =L$3*$K13 -> 0 | M13: =M$3*$K13 -> 0 | N13: =N$3*$K13 -> 0 | O13: =O$3*$K13 -> 0 | P13: =P$3*$K13 -> 0
B14: Caja de compensación | C14: 0.04 | D14: =D3*$C14 -> 0 | E14: =E3*$C14 -> 0 | F14: =F3*$C14 -> 0 | G14: =G3*$C14 -> 0 | H14: =H3*$C14 -> 0 | J14: Caja de compensación | K14: 0.04 | L14: =L$3*$K14 -> 0 | M14: =M$3*$K14 -> 0 | N14: =N$3*$K14 -> 0 | O14: =O$3*$K14 -> 0 | P14: =P$3*$K14 -> 0
B15: Dotación | C15: 0.05 | D15: =D3*$C15 -> 0 | E15: =E3*$C15 -> 0 | F15: =F3*$C15 -> 0 | G15: =G3*$C15 -> 0 | H15: =H3*$C15 -> 0 | J15: Dotación | K15: 0.05 | L15: =L$3*$K15 -> 0 | M15: =M$3*$K15 -> 0 | N15: =N$3*$K15 -> 0 | O15: =O$3*$K15 -> 0 | P15: =P$3*$K15 -> 0
B16: SALARIO REAL | D16: =SUM(D3:D15) -> 0 | E16: =SUM(E3:E15) -> 0 | F16: =SUM(F3:F15) -> 0 | G16: =SUM(G3:G15) -> 0 | H16: =SUM(H3:H15) -> 0 | J16: SALARIO REAL | L16: =SUM(L3:L15) -> 0 | M16: =SUM(M3:M15) -> 0 | N16: =SUM(N3:N15) -> 0 | O16: =SUM(O3:O15) -> 0 | P16: =SUM(P3:P15) -> 0
B17: Nº DE PUESTOS | D17: =EST.TÉCNICO!G13 -> 0 | E17: =EST.TÉCNICO!G14 -> 0 | F17: =EST.TÉCNICO!G15 -> 0 | G17: =EST.TÉCNICO!G16 -> 0 | H17: =EST.TÉCNICO!G17 -> 0 | J17: Nº DE PUESTOS | L17: =EST.TÉCNICO!G18 -> 0 | M17: =EST.TÉCNICO!G19 -> 0 | N17: =EST.TÉCNICO!G20 -> 0 | O17: =EST.TÉCNICO!G21 -> 0 | P17: =EST.TÉCNICO!G22 -> 0
B18: COSTO TOTAL NÓMINA | C18: =SUM(D18:F18) -> 0 | D18: =D16*12*D17 -> 0 | E18: =E16*12*E17 -> 0 | F18: =F16*12*F17 -> 0 | G18: =G16*12*G17 -> 0 | H18: =H16*12*H17 -> 0 | J18: COSTO TOTAL NÓMINA | K18: =SUM(M18:P18) -> 0 | L18: =L16*12*L17 -> 0 | M18: =M16*12*M17 -> 0 | N18: =N16*12*N17 -> 0 | O18: =O16*12*O17 -> 0 | P18: =P16*12*P17 -> 0
B20: gastos fijos de administración y ventas
B21: CONCEPTO | C21: VALOR MENSUAL | D21: VALOR ANUAL
B22: Nómina administrativa | C22: =D22/12 -> 0 | D22: =C18 -> 0
B23: =LOWER(L2) -> jefe de ventas | C23: =L16 -> 0 | D23: =C23*12 -> 0
B24: Arriendo | C24: =CTP!D66*CTP!E66 -> 0 | D24: =C24*12 -> 0
B25: Acueducto | C25: =CTP!D67*CTP!E67 -> 0 | D25: =C25*12 -> 0
B26: Energía | C26: =CTP!D68*CTP!E68 -> 0 | D26: =C26*12 -> 0
B27: Gas | C27: =CTP!E69*CTP!D69 -> 0 | D27: =C27*12 -> 0
B28: Teléfono | C28: =CTP!D70*CTP!E70 -> 0 | D28: =C28*12 -> 0
B29: Internet | C29: =CTP!D73*CTP!E73 -> 0 | D29: =C29*12 -> 0
B30: Administración redes sociales | D30: =C30*12 -> 0
B31: Mantenimiento del sitio web o tienda virtual | D31: =C31*12 -> 0
B32: Nombre de dominio | C32: =D32/12 -> 0
B33: Hosting o servidor | C33: =D33/12 -> 0
B34: Certificado de seguridad (SSL) | C34: =D34/12 -> 0
B35: Licencias tecnológicas | C35: =D35/12 -> 0
B36: Seguros | C36: =CTP!D74*CTP!E74 -> 0 | D36: =C36*12 -> 0
B37: Publicidad operativa | C37: =D37/12 -> 0 | D37: =EST.MERCADOS!M16 -> 0
B38: Contador | D38: =C38*12 -> 0
B39: Asesoría SG-SST | D39: =C39*12 -> 0
B40: Papelería | D40: =C40*12 -> 0
B41: Aseo y cafetería | D41: =C41*12 -> 0
...

Sheet PRECIO
B2: precio de venta
B3: Costos totales de producción | C3: =CTP!D107 -> 0
B4: Gastos de administración y ventas totales | C4: =GAV!D62 -> 0
B5: Costos y gastos totales | C5: =SUM(C3:C4) -> 0
B6: Capacidad utilizada año 1 | C6: =EST.TÉCNICO!C8 -> 0
B7: Costos y gastos totales unitarios | C7: =C5/C6 -> #DIV/0!
B8: Margen de utilidad
B9: Precio de venta | C9: =ROUNDUP(C7/(1-C8),0) -> #DIV/0!
B10: Margen para el intermediario
B11: Precio al intermediario antes de IVA | C11: =ROUNDUP(C9/(1-C10),0) -> #DIV/0!
B12: Tasa de IVA o Impoconsumo
B13: Precio al consumidor | C13: =ROUNDUP(C11/(1-C12),0) -> #DIV/0!

Sheet ESTADO
A1: CONCEPTO | B1: AÑO 1 | C1: AÑO 2 | D1: AÑO 3 | E1: AÑO 4 | F1: AÑO 5
A2: Ingresos operacionales | B2: =PRECIO!$C$9*EST.TÉCNICO!C8 -> #DIV/0! | C2: =PRECIO!$C$9*EST.TÉCNICO!D8 -> #DIV/0! | D2: =PRECIO!$C$9*EST.TÉCNICO!E8 -> #DIV/0! | E2: =PRECIO!$C$9*EST.TÉCNICO!F8 -> #DIV/0! | F2: =PRECIO!$C$9*EST.TÉCNICO!G8 -> #DIV/0!
A3: Ingresos no operacionales
A4: TOTAL INGRESOS | B4: =SUM(B2:B3) -> #DIV/0! | C4: =SUM(C2:C3) -> #DIV/0! | D4: =SUM(D2:D3) -> #DIV/0! | E4: =SUM(E2:E3) -> #DIV/0! | F4: =SUM(F2:F3) -> #DIV/0!
A5: MENOS COSTOS DE PRODUCCIÓN
A6: Materiales | B6: =CTP!D93 -> 0 | C6: =B6*EST.TÉCNICO!D8/EST.TÉCNICO!C8 -> #DIV/0! | D6: =C6*EST.TÉCNICO!E8/EST.TÉCNICO!D8 -> #DIV/0! | E6: =D6*EST.TÉCNICO!F8/EST.TÉCNICO!E8 -> #DIV/0! | F6: =E6*EST.TÉCNICO!G8/EST.TÉCNICO!F8 -> #DIV/0!
A7: MOD | B7: =CTP!D92 -> 0 | C7: =B7 -> 0 | D7: =C7 -> 0 | E7: =D7 -> 0 | F7: =E7 -> 0
A8: CIF | B8: =CTP!C111 -> 0 | C8: =CTP!$C$110+ESTADO!C23 -> #DIV/0! | D8: =CTP!$C$110+ESTADO!D23 -> #DIV/0! | E8: =CTP!$C$110+ESTADO!E23 -> #DIV/0! | F8: =CTP!$C$110+ESTADO!F23 -> #DIV/0!
A9: UTILIDAD BRUTA | B9: =B4-SUM(B6:B8) -> #DIV/0! | C9: =C4-SUM(C6:C8) -> #DIV/0! | D9: =D4-SUM(D6:D8) -> #DIV/0! | E9: =E4-SUM(E6:E8) -> #DIV/0! | F9: =F4-SUM(F6:F8) -> #DIV/0!
A10: MENOS GASTOS DE ADMINISTRACIÓN Y VENTAS
A11: Nómina administrativa | B11: =GAV!D22 -> 0 | C11: =B11 -> 0 | D11: =C11 -> 0 | E11: =D11 -> 0 | F11: =E11 -> 0
A12: Gastos generales | B12: =GAV!D62-GAV!D22 -> 0 | C12: =GAV!$C$66+ESTADO!C22 -> #DIV/0! | D12: =GAV!$C$66+ESTADO!D22 -> #DIV/0! | E12: =GAV!$C$66+ESTADO!E22 -> #DIV/0! | F12: =GAV!$C$66+ESTADO!F22 -> #DIV/0!
A13: UTILIDAD OPERACIONAL | B13: =B9-SUM(B11:B12) -> #DIV/0! | C13: =C9-SUM(C11:C12) -> #DIV/0! | D13: =D9-SUM(D11:D12) -> #DIV/0! | E13: =E9-SUM(E11:E12) -> #DIV/0! | F13: =F9-SUM(F11:F12) -> #DIV/0!
A14: Menos gastos financieros (Intereses) | B14: =-CRÉDITO!C16 -> 0 | C14: =-CRÉDITO!C29 -> 0 | D14: =-CRÉDITO!C42 -> 0 | E14: =-CRÉDITO!C55 -> 0 | F14: =-CRÉDITO!C68 -> 0
A15: Menos 4x1000 | B15: =-B2*4/1000 -> #DIV/0! | C15: =-C2*4/1000 -> #DIV/0! | D15: =-D2*4/1000 -> #DIV/0! | E15: =-E2*4/1000 -> #DIV/0! | F15: =-F2*4/1000 -> #DIV/0!
A16: UTILIDAD ANTES DE IMPUESTOS | B16: =SUM(B13:B15) -> #DIV/0! | C16: =SUM(C13:C15) -> #DIV/0! | D16: =SUM(D13:D15) -> #DIV/0! | E16: =SUM(E13:E15) -> #DIV/0! | F16: =SUM(F13:F15) -> #DIV/0!
A17: Menos Impuesto de Renta | B17: =-B16*$G$17 -> #DIV/0! | C17: =-C16*$G$17 -> #DIV/0! | D17: =-D16*$G$17 -> #DIV/0! | E17: =-E16*$G$17 -> #DIV/0! | F17: =-F16*$G$17 -> #DIV/0!
A18: Menos Impuesto de Ind y Cio | B18: =-B2*$G$18 -> #DIV/0! | C18: =-C2*$G$18 -> #DIV/0! | D18: =-D2*$G$18 -> #DIV/0! | E18: =-E2*$G$18 -> #DIV/0! | F18: =-F2*$G$18 -> #DIV/0!
A19: UTILIDAD NETA | B19: =SUM(B16:B18) -> #DIV/0! | C19: =SUM(C16:C18) -> #DIV/0! | D19: =SUM(D16:D18) -> #DIV/0! | E19: =SUM(E16:E18) -> #DIV/0! | F19: =SUM(F16:F18) -> #DIV/0!
A20: Menos Reserva Legal | B20: =-B19*0.1 -> #DIV/0! | C20: =-C19*0.1 -> #DIV/0! | D20: =-D19*0.1 -> #DIV/0! | E20: =-E19*0.1 -> #DIV/0! | F20: =-F19*0.1 -> #DIV/0!
A21: UTILIDAD DEL EJERCICIO | B21: =SUM(B19:B20) -> #DIV/0! | C21: =SUM(C19:C20) -> #DIV/0! | D21: =SUM(D19:D20) -> #DIV/0! | E21: =SUM(E19:E20) -> #DIV/0! | F21: =SUM(F19:F20) -> #DIV/0!
A22: gastos variables | B22: =GAV!C67 -> 0 | C22: =B22*C2/B2 -> #DIV/0! | D22: =C22*D2/C2 -> #DIV/0! | E22: =D22*E2/D2 -> #DIV/0! | F22: =E22*F2/E2 -> #DIV/0!
A23: cif variables | B23: =CTP!C109 -> 0 | C23: =B23*C2/B2 -> #DIV/0! | D23: =C23*D2/C2 -> #DIV/0! | E23: =D23*E2/D2 -> #DIV/0! | F23: =E23*F2/E2 -> #DIV/0!
A31: reserva legal acumulada | B31: =-B20 -> #DIV/0! | C31: =-SUM(B20:C20) -> #DIV/0! | D31: =-SUM(B20:D20) -> #DIV/0! | E31: =-SUM(B20:E20) -> #DIV/0! | F31: =-SUM(B20:F20) -> #DIV/0!

Sheet FLUJO
A2: CONCEPTO | B2: AÑO 0 | C2: AÑO 1 | D2: AÑO 2 | E2: AÑO 3 | F2: AÑO 4 | G2: AÑO 5
A3: Saldo de caja anterior | B3: 0 | C3: =B42 -> 0 | D3: =SUM(B42:C42) -> #DIV/0! | E3: =SUM(B42:D42) -> #DIV/0! | F3: =SUM(B42:E42) -> #DIV/0! | G3: =SUM(B42:F42) -> #DIV/0! | H3: =SUM(B42:G42)-G23 -> #DIV/0!
A4: Flujos de efectivo de actividad de operación
A5: +INGRESOS | C5: =SUM(C6:C7) -> #DIV/0! | D5: =SUM(D6:D7) -> #DIV/0! | E5: =SUM(E6:E7) -> #DIV/0! | F5: =SUM(F6:F7) -> #DIV/0! | G5: =SUM(G6:G7) -> #DIV/0!
A6: Operacionales | C6: =ESTADO!B2 -> #DIV/0! | D6: =ESTADO!C2 -> #DIV/0! | E6: =ESTADO!D2 -> #DIV/0! | F6: =ESTADO!E2 -> #DIV/0! | G6: =ESTADO!F2 -> #DIV/0!
A7: Ingresos no operacionales | C7: =ESTADO!B3 -> 0 | D7: =ESTADO!C3 -> 0 | E7: =ESTADO!D3 -> 0 | F7: =ESTADO!E3 -> 0 | G7: =ESTADO!F3 -> 0
A8: - EGRESOS | C8: =-SUM(C9:C18) -> #DIV/0! | D8: =-SUM(D9:D18) -> #DIV/0! | E8: =-SUM(E9:E18) -> #DIV/0! | F8: =-SUM(F9:F18) -> #DIV/0! | G8: =-SUM(G9:G18) -> #DIV/0!
A9: Materiales | C9: =ESTADO!B6 -> 0 | D9: =ESTADO!C6 -> #DIV/0! | E9: =ESTADO!D6 -> #DIV/0! | F9: =ESTADO!E6 -> #DIV/0! | G9: =ESTADO!F6 -> #DIV/0!
A10: MOD | C10: =ESTADO!B7 -> 0 | D10: =ESTADO!C7 -> 0 | E10: =ESTADO!D7 -> 0 | F10: =ESTADO!E7 -> 0 | G10: =ESTADO!F7 -> 0
A11: CIF | C11: =ESTADO!B8 -> 0 | D11: =ESTADO!C8 -> #DIV/0! | E11: =ESTADO!D8 -> #DIV/0! | F11: =ESTADO!E8 -> #DIV/0! | G11: =ESTADO!F8 -> #DIV/0!
A12: Nómina administrativa | C12: =ESTADO!B11 -> 0 | D12: =ESTADO!C11 -> 0 | E12: =ESTADO!D11 -> 0 | F12: =ESTADO!E11 -> 0 | G12: =ESTADO!F11 -> 0
A13: Gastos generales | C13: =ESTADO!B12 -> 0 | D13: =ESTADO!C12 -> #DIV/0! | E13: =ESTADO!D12 -> #DIV/0! | F13: =ESTADO!E12 -> #DIV/0! | G13: =ESTADO!F12 -> #DIV/0!
A14: Menos depreciaciones | C14: =-CTP!D86-GAV!D46 -> 0 | D14: =C14 -> 0 | E14: =D14 -> 0 | F14: =E14 -> 0 | G14: =F14 -> 0
A15: Menos amortizaciones | C15: =-GAV!D45 -> 0 | D15: =C15 -> 0 | E15: =D15 -> 0 | F15: =E15 -> 0 | G15: =F15 -> 0
A16: Impuesto de renta | C16: 0 | D16: =-ESTADO!B17 -> #DIV/0! | E16: =-ESTADO!C17 -> #DIV/0! | F16: =-ESTADO!D17 -> #DIV/0! | G16: =-ESTADO!E17 -> #DIV/0!
A17: Impuesto de Ind y Cio | C17: 0 | D17: =-ESTADO!B18 -> #DIV/0! | E17: =-ESTADO!C18 -> #DIV/0! | F17: =-ESTADO!D18 -> #DIV/0! | G17: =-ESTADO!E18 -> #DIV/0!
A18: 4 x 1000 | C18: =-ESTADO!B15 -> #DIV/0! | D18: =-ESTADO!C15 -> #DIV/0! | E18: =-ESTADO!D15 -> #DIV/0! | F18: =-ESTADO!E15 -> #DIV/0! | G18: =-ESTADO!F15 -> #DIV/0!
A19: FLUJOS NETOS DE EFECTIVO DE ACTIVIDAD DE OPERACIÓN | B19: 0 | C19: =SUM(C5,C8) -> #DIV/0! | D19: =SUM(D5,D8) -> #DIV/0! | E19: =SUM(E5,E8) -> #DIV/0! | F19: =SUM(F5,F8) -> #DIV/0! | G19: =SUM(G5,G8) -> #DIV/0!
A20: Flujos efectivo actividades inversión
A21: +INGRESOS | B21: =SUM(B22:B23) -> 0 | C21: =SUM(C22:C23) -> 0 | D21: =SUM(D22:D23) -> 0 | E21: =SUM(E22:E23) -> 0 | F21: =SUM(F22:F23) -> 0 | G21: =SUM(G22:G23) -> 0
A22: Capital social | B22: =SUM(INVERSIÓN!I60:I61) -> 0
A23: Valor de salvamento | G23: =SUM(INVERSIÓN!F23,INVERSIÓN!F14,INVERSIÓN!F43,INVERSIÓN!F68,INVERSIÓN!F83,INVERSIÓN!J7) -> 0
A24: -EGRESOS | B24: =-SUM(B25:B33) -> 0 | C24: =-SUM(C25:C33) -> 0 | D24: =-SUM(D25:D33) -> 0 | E24: =-SUM(E25:E33) -> 0 | F24: =-SUM(F25:F33) -> 0 | G24: =-SUM(G25:G33) -> 0
A25: Compra de Equipo de oficina | B25: =INVERSIÓN!I3 -> 0
A26: Compra de Equipo de computación y comunicación | B26: =INVERSIÓN!I4 -> 0
A27: Compra de Maquinaria y equipo | B27: =INVERSIÓN!I5 -> 0
A28: Compra de Terreno | B28: =INVERSIÓN!I6 -> 0
A29: Compra de Construcciones y edificaciones | B29: =INVERSIÓN!I7 -> 0
A30: Compra de Muebles y enseres | B30: =INVERSIÓN!I8 -> 0
A31: Compra de Materiales, repuestos y accesorios | B31: =INVERSIÓN!I9 -> 0
A32: Compra de Inventario de materia prima | B32: =INVERSIÓN!I10 -> 0
A33: Inversión activos diferidos | B33: =INVERSIÓN!I36 -> 0
A34: FLUJOS NETOS DE EFECTIVO ACTIVIDADES INVERSIÓN | B34: =SUM(B21,B24) -> 0 | C34: =SUM(C21,C24) -> 0 | D34: =SUM(D21,D24) -> 0 | E34: =SUM(E21,E24) -> 0 | F34: =SUM(F21,F24) -> 0 | G34: =SUM(G21,G24) -> 0
A35: Flujos de efectivo de actividad de financiación
A36: +INGRESOS | B36: =B37 -> 0
A37: Préstamo bancario | B37: =CRÉDITO!B1 -> 0
A38: -EGRESOS | C38: =-SUM(C39:C40) -> 0 | D38: =-SUM(D39:D40) -> 0 | E38: =-SUM(E39:E40) -> 0 | F38: =-SUM(F39:F40) -> 0 | G38: =-SUM(G39:G40) -> 0
A39: Abono a capital | C39: =CRÉDITO!B16 -> 0 | D39: =CRÉDITO!B29 -> 0 | E39: =CRÉDITO!B42 -> 0 | F39: =CRÉDITO!B55 -> 0 | G39: =CRÉDITO!B68 -> 0
A40: Gastos financieros | C40: =-ESTADO!B14 -> 0 | D40: =-ESTADO!C14 -> 0 | E40: =-ESTADO!D14 -> 0 | F40: =-ESTADO!E14 -> 0 | G40: =-ESTADO!F14 -> 0
A41: FLUJOS NETOS DE EFECTIVO DE ACTIVIDAD DE FINANCIACIÓN | B41: =SUM(B36,B38) -> 0 | C41: =SUM(C36,C38) -> 0 | D41: =SUM(D36,D38) -> 0 | E41: =SUM(E36,E38) -> 0 | F41: =SUM(F36,F38) -> 0 | G41: =SUM(G36,G38) -> 0
...

Sheet EST SIT FIN
A2: CUENTA | B2: AÑO 0 | C2: AÑO 1 | D2: AÑO 2 | E2: AÑO 3 | F2: AÑO 4 | G2: AÑO 5
A3: ACTIVO
A4: ACTIVOS CORRIENTES
A5: Fondos en caja
A6: Fondos en bancos | B6: =FLUJO!C3-B5 -> 0 | C6: =FLUJO!D3-C5 -> #DIV/0! | D6: =FLUJO!E3-D5 -> #DIV/0! | E6: =FLUJO!F3-E5 -> #DIV/0! | F6: =FLUJO!G3-F5 -> #DIV/0! | G6: =FLUJO!H3-G5 -> #DIV/0!
A7: Mercancías no fabricadas por la empresa | B7: =INVERSIÓN!I10 -> 0 | C7: =B7 -> 0 | D7: =C7 -> 0 | E7: =D7 -> 0 | F7: =E7 -> 0 | G7: =F7 -> 0
A8: TOTAL ACTIVOS CORRIENTES | B8: =SUM(B5:B7) -> 0 | C8: =SUM(C5:C7) -> #DIV/0! | D8: =SUM(D5:D7) -> #DIV/0! | E8: =SUM(E5:E7) -> #DIV/0! | F8: =SUM(F5:F7) -> #DIV/0! | G8: =SUM(G5:G7) -> #DIV/0!
A9: ACTIVOS FIJOS
A10: Equipo de oficina | B10: =INVERSIÓN!I3 -> 0 | C10: =B10 -> 0 | D10: =C10 -> 0 | E10: =D10 -> 0 | F10: =E10 -> 0 | G10: =F10 -> 0
A11: Equipo de computación y comunicación | B11: =INVERSIÓN!I4 -> 0 | C11: =B11 -> 0 | D11: =C11 -> 0 | E11: =D11 -> 0 | F11: =E11 -> 0 | G11: =F11 -> 0
A12: Maquinaria y equipo | B12: =INVERSIÓN!I5 -> 0 | C12: =B12 -> 0 | D12: =C12 -> 0 | E12: =D12 -> 0 | F12: =E12 -> 0 | G12: =F12 -> 0
A13: Terreno | B13: =INVERSIÓN!I6 -> 0 | C13: =B13 -> 0 | D13: =C13 -> 0 | E13: =D13 -> 0 | F13: =E13 -> 0 | G13: =F13 -> 0
A14: Construcciones y edificaciones | B14: =INVERSIÓN!I7 -> 0 | C14: =B14 -> 0 | D14: =C14 -> 0 | E14: =D14 -> 0 | F14: =E14 -> 0 | G14: =F14 -> 0
A15: Muebles y enseres | B15: =INVERSIÓN!I8 -> 0 | C15: =B15 -> 0 | D15: =C15 -> 0 | E15: =D15 -> 0 | F15: =E15 -> 0 | G15: =F15 -> 0
A16: Materiales, repuestos y accesorios | B16: =INVERSIÓN!I9 -> 0 | C16: =B16 -> 0 | D16: =C16 -> 0 | E16: =D16 -> 0 | F16: =E16 -> 0 | G16: =F16 -> 0
A17: Menos depreciación acumulada | B17: 0 | C17: =-CTP!D86-GAV!D46 -> 0 | D17: =C17*2 -> 0 | E17: =C17*3 -> 0 | F17: =C17*4 -> 0 | G17: =C17*5 -> 0
A18: TOTAL ACTIVOS FIJOS | B18: =SUM(B10:B17) -> 0 | C18: =SUM(C10:C17) -> 0 | D18: =SUM(D10:D17) -> 0 | E18: =SUM(E10:E17) -> 0 | F18: =SUM(F10:F17) -> 0 | G18: =SUM(G10:G17) -> 0
A19: ACTIVOS DIFERIDOS | B19: =INVERSIÓN!I36 -> 0 | C19: =B19 -> 0 | D19: =C19 -> 0 | E19: =D19 -> 0 | F19: =E19 -> 0 | G19: =F19 -> 0
A20: Menos amortización acumulada | B20: 0 | C20: =-INVERSIÓN!I37 -> 0 | D20: =C20*2 -> 0 | E20: =C20*3 -> 0 | F20: =C20*4 -> 0 | G20: =C20*5 -> 0
A21: TOTAL ACTIVOS DIFERIDOS | B21: =SUM(B19:B20) -> 0 | C21: =SUM(C19:C20) -> 0 | D21: =SUM(D19:D20) -> 0 | E21: =SUM(E19:E20) -> 0 | F21: =SUM(F19:F20) -> 0 | G21: =SUM(G19:G20) -> 0
A22: ACTIVOS TOTALES | B22: =SUM(B8,B18,B21) -> 0 | C22: =SUM(C8,C18,C21) -> #DIV/0! | D22: =SUM(D8,D18,D21) -> #DIV/0! | E22: =SUM(E8,E18,E21) -> #DIV/0! | F22: =SUM(F8,F18,F21) -> #DIV/0! | G22: =SUM(G8,G18,G21) -> #DIV/0!
A23: PASIVO
A24: PASIVOS CORRIENTES
A25: Obligaciones financieras corto plazo | B25: =CRÉDITO!B16 -> 0 | C25: =CRÉDITO!B29 -> 0 | D25: =CRÉDITO!B42 -> 0 | E25: =CRÉDITO!B55 -> 0 | F25: =CRÉDITO!B68 -> 0 | G25: 0
A26: Impuesto de renta y complementarios | B26: 0 | C26: =-ESTADO!B17 -> #DIV/0! | D26: =-ESTADO!C17 -> #DIV/0! | E26: =-ESTADO!D17 -> #DIV/0! | F26: =-ESTADO!E17 -> #DIV/0! | G26: =-ESTADO!F17 -> #DIV/0!
A27: Impuesto de Industria y Comercio | B27: 0 | C27: =-ESTADO!B18 -> #DIV/0! | D27: =-ESTADO!C18 -> #DIV/0! | E27: =-ESTADO!D18 -> #DIV/0! | F27: =-ESTADO!E18 -> #DIV/0! | G27: =-ESTADO!F18 -> #DIV/0!
A28: TOTAL PASIVOS CORRIENTES | B28: =SUM(B25:B27) -> 0 | C28: =SUM(C25:C27) -> #DIV/0! | D28: =SUM(D25:D27) -> #DIV/0! | E28: =SUM(E25:E27) -> #DIV/0! | F28: =SUM(F25:F27) -> #DIV/0! | G28: =SUM(G25:G27) -> #DIV/0!
A29: PASIVOS NO CORRIENTES
A30: Obligaciones financieras largo plazo | B30: =CRÉDITO!B69-CRÉDITO!B16 -> 0 | C30: =CRÉDITO!B69-CRÉDITO!B16-CRÉDITO!B29 -> 0 | D30: =CRÉDITO!B69-CRÉDITO!B16-CRÉDITO!B29-CRÉDITO!B42 -> 0 | E30: =CRÉDITO!B69-CRÉDITO!B16-CRÉDITO!B29-CRÉDITO!B42-CRÉDITO!B55 -> 0 | F30: 0 | G30: 0
A31: TOTAL PASIVOS NO CORRIENTES | B31: =B30 -> 0 | C31: =C30 -> 0 | D31: =D30 -> 0 | E31: =E30 -> 0 | F31: =F30 -> 0 | G31: =G30 -> 0
A32: PASIVOS TOTALES | B32: =SUM(B28,B31) -> 0 | C32: =SUM(C28,C31) -> #DIV/0! | D32: =SUM(D28,D31) -> #DIV/0! | E32: =SUM(E28,E31) -> #DIV/0! | F32: =SUM(F28,F31) -> #DIV/0! | G32: =SUM(G28,G31) -> #DIV/0!
A34: PATRIMONIO
A35: Capital social | B35: =FLUJO!B22 -> 0 | C35: =B35 -> 0 | D35: =C35 -> 0 | E35: =D35 -> 0 | F35: =E35 -> 0 | G35: =F35 -> 0
A36: Reserva legal acumulada | B36: 0 | C36: =ESTADO!B31 -> #DIV/0! | D36: =ESTADO!C31 -> #DIV/0! | E36: =ESTADO!D31 -> #DIV/0! | F36: =ESTADO!E31 -> #DIV/0! | G36: =ESTADO!F31 -> #DIV/0!
A37: Utilidad del ejercicio | B37: 0 | C37: =ESTADO!B21 -> #DIV/0! | D37: =ESTADO!C21 -> #DIV/0! | E37: =ESTADO!D21 -> #DIV/0! | F37: =ESTADO!E21 -> #DIV/0! | G37: =ESTADO!F21 -> #DIV/0!
A38: Utilidades o excedentes acumulados | B38: 0 | C38: 0 | D38: =C37 -> #DIV/0! | E38: =SUM(D37:D38) -> #DIV/0! | F38: =SUM(E37:E38) -> #DIV/0! | G38: =SUM(F37:F38) -> #DIV/0!
A39: PATRIMONIO TOTAL | B39: =SUM(B35:B38) -> 0 | C39: =SUM(C35:C38) -> #DIV/0! | D39: =SUM(D35:D38) -> #DIV/0! | E39: =SUM(E35:E38) -> #DIV/0! | F39: =SUM(F35:F38) -> #DIV/0! | G39: =SUM(G35:G38) -> #DIV/0!
A41: TOTAL PASIVO MÁS PATRIMONIO | B41: =SUM(B32,B39) -> 0 | C41: =SUM(C32,C39) -> #DIV/0! | D41: =SUM(D32,D39) -> #DIV/0! | E41: =SUM(E32,E39) -> #DIV/0! | F41: =SUM(F32,F39) -> #DIV/0! | G41: =SUM(G32,G39) -> #DIV/0!
A43: diferencia | B43: =IF(B22-B41<100,0,B22-B41) -> 0 | C43: =IF(C22-C41<100,0,C22-C41) -> #DIV/0! | D43: =IF(D22-D41<100,0,D22-D41) -> #DIV/0! | E43: =IF(E22-E41<100,0,E22-E41) -> #DIV/0! | F43: =IF(F22-F41<100,0,F22-F41) -> #DIV/0! | G43: =IF(G22-G41<100,0,G22-G41) -> #DIV/0!

Sheet EVAL
A1: TMAR = i + f + i*f (Bacca Urbina, 2013)
A2: Donde:
A3: i = prima de riesgo al riesgo | B3: Riesgo bajo | C3: 1% a 10%
A4: f = inflación | B4: Riesgo medio | C4: 11% a 20%
B5: Riesgo alto | C5: 21% a 30%
A7: Prima de riesgo al riesgo
A8: Inflación
A9: TMAR recursos propios | B9: =B7+B8+B7*B8 -> 0
A10: Recursos crédito | B10: =CRÉDITO!G1 -> 0
A11: TMAR Banco | B11: =B8+B10+B8*B10 -> 0
A12: Porcentaje aportación recursos propios | B12: =SUM(INVERSIÓN!J60:J61) -> 0
A13: Porcentaje aportación Banco | B13: =INVERSIÓN!J62 -> 0
A14: TMAR MIXTA | B14: =B9*B12+B11*B13 -> 0
A15: TMAR MIXTA DEFLACTADA | B15: =B14-B8/(1+B8) -> 0
A17: CONCEPTO | B17: AÑO 0 | C17: AÑO 1 | D17: AÑO 2 | E17: AÑO 3 | F17: AÑO 4 | G17: AÑO 5
A18: FLUJO DE EFECTIVO NETO | B18: =-FLUJO!B22 -> 0 | C18: =FLUJO!C42 -> #DIV/0! | D18: =FLUJO!D42 -> #DIV/0! | E18: =FLUJO!E42 -> #DIV/0! | F18: =FLUJO!F42 -> #DIV/0! | G18: =FLUJO!G42 -> #DIV/0!
A19: VNA | B19: =B18 -> 0 | C19: =NPV($B$14,C18) -> #DIV/0! | D19: =NPV($B$14,0,D18) -> #DIV/0! | E19: =NPV($B$14,0,0,E18) -> #DIV/0! | F19: =NPV($B$14,0,0,0,F18) -> #DIV/0! | G19: =NPV($B$14,0,0,0,0,G18) -> #DIV/0!
A20: VALOR RECUPERADO | C20: =C19 -> #DIV/0! | D20: =SUM(C19:D19) -> #DIV/0! | E20: =SUM(C19:E19) -> #DIV/0! | F20: =SUM(C19:F19) -> #DIV/0! | G20: =SUM(C19:G19) -> #DIV/0!
A22: VPN | B22: =B18+NPV(B15,C18:G18) -> #DIV/0!
A23: TIR | B23: =IRR(B18:G18) -> #VALUE!
I24: RAZONES DE LIQUIDEZ | J24: RELACIÓN | K24: UNIDAD DE ANÁLISIS | L24: AÑO 1 | M24: AÑO 2 | N24: AÑO 3 | O24: AÑO 4 | P24: AÑO 5
I25: Razon corriente | J25: activo corriente / pasivo corriente | K25: No veces | L25: ='EST SIT FIN'!C8/'EST SIT FIN'!C28 -> #DIV/0! | M25: ='EST SIT FIN'!D8/'EST SIT FIN'!D28 -> #DIV/0! | N25: ='EST SIT FIN'!E8/'EST SIT FIN'!E28 -> #DIV/0! | O25: ='EST SIT FIN'!F8/'EST SIT FIN'!F28 -> #DIV/0! | P25: ='EST SIT FIN'!G8/'EST SIT FIN'!G28 -> #DIV/0!
I26: Prueba acida** | J26: activo corriente - inventarios / pasivo corriente | K26: No veces | L26: =('EST SIT FIN'!C8-'EST SIT FIN'!C7)/'EST SIT FIN'!C28 -> #DIV/0! | M26: =('EST SIT FIN'!D8-'EST SIT FIN'!D7)/'EST SIT FIN'!D28 -> #DIV/0! | N26: =('EST SIT FIN'!E8-'EST SIT FIN'!E7)/'EST SIT FIN'!E28 -> #DIV/0! | O26: =('EST SIT FIN'!F8-'EST SIT FIN'!F7)/'EST SIT FIN'!F28 -> #DIV/0! | P26: =('EST SIT FIN'!G8-'EST SIT FIN'!G7)/'EST SIT FIN'!G28 -> #DIV/0!
I27: Capital de trabajo neto | J27: activo corriente - pasivo corriente | K27: unidades $$ | L27: ='EST SIT FIN'!C8-'EST SIT FIN'!C28 -> #DIV/0! | M27: ='EST SIT FIN'!D8-'EST SIT FIN'!D28 -> #DIV/0! | N27: ='EST SIT FIN'!E8-'EST SIT FIN'!E28 -> #DIV/0! | O27: ='EST SIT FIN'!F8-'EST SIT FIN'!F28 -> #DIV/0! | P27: ='EST SIT FIN'!G8-'EST SIT FIN'!G28 -> #DIV/0!
I29: RAZONES DE OPERACIÓN | J29: RELACIÓN | K29: UNIDAD DE ANÁLISIS | L29: AÑO 1 | M29: AÑO 2 | N29: AÑO 3 | O29: AÑO 4 | P29: AÑO 5
I30: Rotacion activo corriente | J30: ventas/activo corriente | K30: No veces | L30: =ESTADO!B2/'EST SIT FIN'!C8 -> #DIV/0! | M30: =ESTADO!C2/'EST SIT FIN'!D8 -> #DIV/0! | N30: =ESTADO!D2/'EST SIT FIN'!E8 -> #DIV/0! | O30: =ESTADO!E2/'EST SIT FIN'!F8 -> #DIV/0! | P30: =ESTADO!F2/'EST SIT FIN'!G8 -> #DIV/0!
I31: Rotacion activo fijo | J31: ventas / activo fijo neto | K31: No veces | L31: =ESTADO!B2/'EST SIT FIN'!C18 -> #DIV/0! | M31: =ESTADO!C2/'EST SIT FIN'!D18 -> #DIV/0! | N31: =ESTADO!D2/'EST SIT FIN'!E18 -> #DIV/0! | O31: =ESTADO!E2/'EST SIT FIN'!F18 -> #DIV/0! | P31: =IF('EST SIT FIN'!G18=0,0,ESTADO!F2/'EST SIT FIN'!G18) -> 0
I32: Rotacion activo total | J32: ventas / activo total | K32: No veces | L32: =ESTADO!B2/'EST SIT FIN'!C22 -> #DIV/0! | M32: =ESTADO!C2/'EST SIT FIN'!D22 -> #DIV/0! | N32: =ESTADO!D2/'EST SIT FIN'!E22 -> #DIV/0! | O32: =ESTADO!E2/'EST SIT FIN'!F22 -> #DIV/0! | P32: =ESTADO!F2/'EST SIT FIN'!G22 -> #DIV/0!
G33: RAZONES FINANCIERAS
I34: RAZONES DE ENDEUDAMIENTO | J34: RELACIÓN | K34: UNIDAD DE ANÁLISIS | L34: AÑO 1 | M34: AÑO 2 | N34: AÑO 3 | O34: AÑO 4 | P34: AÑO 5
I35: Endeudamiento total | J35: pasivo total / activo total | K35: % | L35: ='EST SIT FIN'!C32/'EST SIT FIN'!C22 -> #DIV/0! | M35: ='EST SIT FIN'!D32/'EST SIT FIN'!D22 -> #DIV/0! | N35: ='EST SIT FIN'!E32/'EST SIT FIN'!E22 -> #DIV/0! | O35: ='EST SIT FIN'!F32/'EST SIT FIN'!F22 -> #DIV/0! | P35: ='EST SIT FIN'!G32/'EST SIT FIN'!G22 -> #DIV/0!
I36: Cobertura intereses | J36: utilidad operacional / intereses | K36: No veces | L36: =IF(ESTADO!B14=0,0,-ESTADO!B13/ESTADO!B14) -> 0 | M36: =IF(ESTADO!C14=0,0,-ESTADO!C13/ESTADO!C14) -> 0 | N36: =IF(ESTADO!D14=0,0,-ESTADO!D13/ESTADO!D14) -> 0 | O36: =IF(ESTADO!E14=0,0,-ESTADO!E13/ESTADO!E14) -> 0 | P36: =IF(ESTADO!F14=0,0,-ESTADO!F13/ESTADO!F14) -> 0
I37: Índice participacion patrimonial | J37: patrimonio / activo total | K37: % | L37: ='EST SIT FIN'!C39/'EST SIT FIN'!C22 -> #DIV/0! | M37: ='EST SIT FIN'!D39/'EST SIT FIN'!D22 -> #DIV/0! | N37: ='EST SIT FIN'!E39/'EST SIT FIN'!E22 -> #DIV/0! | O37: ='EST SIT FIN'!F39/'EST SIT FIN'!F22 -> #DIV/0! | P37: ='EST SIT FIN'!G39/'EST SIT FIN'!G22 -> #DIV/0!
I39: RAZONES RENTABILIDAD | J39: RELACIÓN | K39: UNIDAD DE ANÁLISIS | L39: AÑO 1 | M39: AÑO 2 | N39: AÑO 3 | O39: AÑO 4 | P39: AÑO 5
I40: Margen bruto utilidad | J40: utilidad bruta/ ventas | K40: % | L40: =ESTADO!B9/ESTADO!B2 -> #DIV/0! | M40: =ESTADO!C9/ESTADO!C2 -> #DIV/0! | N40: =ESTADO!D9/ESTADO!D2 -> #DIV/0! | O40: =ESTADO!E9/ESTADO!E2 -> #DIV/0! | P40: =ESTADO!F9/ESTADO!F2 -> #DIV/0!
I41: Margen utilidad neta | J41: utilidad neta/ventas | K41: % | L41: =ESTADO!B19/ESTADO!B2 -> #DIV/0! | M41: =ESTADO!C19/ESTADO!C2 -> #DIV/0! | N41: =ESTADO!D19/ESTADO!D2 -> #DIV/0! | O41: =ESTADO!E19/ESTADO!E2 -> #DIV/0! | P41: =ESTADO!F19/ESTADO!F2 -> #DIV/0!
I42: Rendimiento activos | J42: utilidad neta/ activos totales | K42: % | L42: =ESTADO!B19/'EST SIT FIN'!C22 -> #DIV/0! | M42: =ESTADO!C19/'EST SIT FIN'!D22 -> #DIV/0! | N42: =ESTADO!D19/'EST SIT FIN'!E22 -> #DIV/0! | O42: =ESTADO!E19/'EST SIT FIN'!F22 -> #DIV/0! | P42: =ESTADO!F19/'EST SIT FIN'!G22 -> #DIV/0!
A45: PUNTO DE EQUILIBRIO | B45: FÓRMULA | C45: RESULTADO
A46: En función de la capacidad instalada (%) | B46: PE = CF/(IT-CV) | C46: =B51/(B54-B52) -> #DIV/0!
A47: En función de cantidades producidas (Q) | B47: PE = CF/(Pu-CVu) | C47: =B51/(B55-B56) -> #DIV/0!
...
